BEGIN:VCALENDAR
VERSION:2.0
PRODID:-//All Ireland Polo Club - ECPv6.15.20//NONSGML v1.0//EN
CALSCALE:GREGORIAN
METHOD:PUBLISH
X-ORIGINAL-URL:https://allirelandpoloclub.com
X-WR-CALDESC:Events for All Ireland Polo Club
REFRESH-INTERVAL;VALUE=DURATION:PT1H
X-Robots-Tag:noindex
X-PUBLISHED-TTL:PT1H
BEGIN:VTIMEZONE
TZID:UTC
BEGIN:STANDARD
TZOFFSETFROM:+0000
TZOFFSETTO:+0000
TZNAME:UTC
DTSTART:20160101T000000
END:STANDARD
END:VTIMEZONE
BEGIN:VEVENT
DTSTART;TZID=UTC:20250906T080000
DTEND;TZID=UTC:20250907T170000
DTSTAMP:20260422T095412
CREATED:20170705T111252Z
LAST-MODIFIED:20250626T110551Z
UID:330-1757145600-1757264400@allirelandpoloclub.com
SUMMARY:Pakistan Cup
DESCRIPTION:Pakistan Cup Open Tournament \nFor the Pakistan Trophy (4 Goal)                         \n\n\n& the Polo Vase (0 Goal)                            \nPlayers Ball to be held on the Saturday Night \n\n\n 
URL:https://allirelandpoloclub.com/event/pakistan-cup/
LOCATION:The All Ireland Polo Club\, Polo Grounds\, Phoenix Park\, Dublin\, Ireland
CATEGORIES:Tournaments Season 2017
END:VEVENT
BEGIN:VEVENT
DTSTART;TZID=UTC:20250823T080000
DTEND;TZID=UTC:20250824T170000
DTSTAMP:20260422T095412
CREATED:20250626T110758Z
LAST-MODIFIED:20250626T111043Z
UID:395-1755936000-1756054800@allirelandpoloclub.com
SUMMARY:Autumn International Open Tournament
DESCRIPTION:Autumn International Open Tournament \nFor the Freebooters Cup (4 Goal)                        \n & The Ladies Cup (0 Goal)
URL:https://allirelandpoloclub.com/event/autumn-international-open-tournament/
END:VEVENT
BEGIN:VEVENT
DTSTART;TZID=UTC:20250809T080000
DTEND;TZID=UTC:20250810T170000
DTSTAMP:20260422T095412
CREATED:20250626T105321Z
LAST-MODIFIED:20250626T105649Z
UID:392-1754726400-1754845200@allirelandpoloclub.com
SUMMARY:August International Open Tournament
DESCRIPTION:August International Open Tournament \n For the Monthly Cup (4 Goal)                  \n& The Polo Vase Trophy (0 Goal)          
URL:https://allirelandpoloclub.com/event/august-international-open-tournament/
LOCATION:The All Ireland Polo Club\, Polo Grounds\, Phoenix Park\, Dublin\, Ireland
END:VEVENT
BEGIN:VEVENT
DTSTART;TZID=UTC:20250726T080000
DTEND;TZID=UTC:20250727T170000
DTSTAMP:20260422T095412
CREATED:20250626T104400Z
LAST-MODIFIED:20250626T104400Z
UID:390-1753516800-1753635600@allirelandpoloclub.com
SUMMARY:July International Tournament
DESCRIPTION:July International Tournament \nFor the Novices Cup (4 Goal) \n& the Pegus Trophy (0Goal)
URL:https://allirelandpoloclub.com/event/july-international-tournament/
LOCATION:The All Ireland Polo Club\, Polo Grounds\, Phoenix Park\, Dublin\, Ireland
END:VEVENT
BEGIN:VEVENT
DTSTART;TZID=UTC:20250629T080000
DTEND;TZID=UTC:20250629T170000
DTSTAMP:20260422T095412
CREATED:20250626T102928Z
LAST-MODIFIED:20250626T103514Z
UID:387-1751184000-1751216400@allirelandpoloclub.com
SUMMARY:Derby Tournament
DESCRIPTION:For the Presidents Cup (4 Goal)  \n& The All Hallows Cup (0 Goal)
URL:https://allirelandpoloclub.com/event/derby-tournament/
LOCATION:The All Ireland Polo Club\, Polo Grounds\, Phoenix Park\, Dublin\, Ireland
END:VEVENT
BEGIN:VEVENT
DTSTART;VALUE=DATE:20170908
DTEND;VALUE=DATE:20170909
DTSTAMP:20260422T095412
CREATED:20170705T110901Z
LAST-MODIFIED:20170705T110901Z
UID:328-1504828800-1504915199@allirelandpoloclub.com
SUMMARY:Charity Day
DESCRIPTION:
URL:https://allirelandpoloclub.com/event/charity-day/
CATEGORIES:Tournaments Season 2017
END:VEVENT
BEGIN:VEVENT
DTSTART;VALUE=DATE:20170826
DTEND;VALUE=DATE:20170828
DTSTAMP:20260422T095412
CREATED:20170705T110808Z
LAST-MODIFIED:20170705T110915Z
UID:326-1503705600-1503878399@allirelandpoloclub.com
SUMMARY:Freebooters Tournament
DESCRIPTION:A -4 to 0 and a 0 to 2 Goal tournament
URL:https://allirelandpoloclub.com/event/freebooters-tournament/
CATEGORIES:Tournaments Season 2017
END:VEVENT
BEGIN:VEVENT
DTSTART;VALUE=DATE:20170812
DTEND;VALUE=DATE:20170814
DTSTAMP:20260422T095412
CREATED:20170705T110639Z
LAST-MODIFIED:20170705T111016Z
UID:323-1502496000-1502668799@allirelandpoloclub.com
SUMMARY:Novice Cup
DESCRIPTION:A -4 to 0 & 0-2 Goal tournament.
URL:https://allirelandpoloclub.com/event/novice-cup/
CATEGORIES:Tournaments Season 2017
END:VEVENT
BEGIN:VEVENT
DTSTART;VALUE=DATE:20170722
DTEND;VALUE=DATE:20170724
DTSTAMP:20260422T095412
CREATED:20170630T091824Z
LAST-MODIFIED:20170721T125126Z
UID:192-1500681600-1500854399@allirelandpoloclub.com
SUMMARY:Friends & Family Tournament
DESCRIPTION:Relaxing weekend of polo with friendly matches for everyone to watch. Saturday Polo match starts at 3 PM.
URL:https://allirelandpoloclub.com/event/friends-and-family-tournament/
CATEGORIES:Tournaments Season 2017
END:VEVENT
BEGIN:VEVENT
DTSTART;TZID=UTC:20170719T183000
DTEND;TZID=UTC:20170719T210000
DTSTAMP:20260422T095412
CREATED:20170630T090905Z
LAST-MODIFIED:20170630T091241Z
UID:188-1500489000-1500498000@allirelandpoloclub.com
SUMMARY:Irish Quarter Horse Demonstration
DESCRIPTION:
URL:https://allirelandpoloclub.com/event/irish-quarter-horse-demonstration/
CATEGORIES:Cooperation Events
END:VEVENT
BEGIN:VEVENT
DTSTART;TZID=UTC:20170713T190000
DTEND;TZID=UTC:20170713T220000
DTSTAMP:20260422T095412
CREATED:20170630T090810Z
LAST-MODIFIED:20170630T091131Z
UID:186-1499972400-1499983200@allirelandpoloclub.com
SUMMARY:Polo Academy Rules Clinic
DESCRIPTION:For more information about attendance & prices email Emily at info@paloaltopolo.com
URL:https://allirelandpoloclub.com/event/polo-academy-rules-clinic/
CATEGORIES:New Dublin Polo Academy
END:VEVENT
BEGIN:VEVENT
DTSTART;TZID=UTC:20170702T143000
DTEND;TZID=UTC:20170702T160000
DTSTAMP:20260422T095412
CREATED:20170630T091633Z
LAST-MODIFIED:20170630T091652Z
UID:190-1499005800-1499011200@allirelandpoloclub.com
SUMMARY:Polo Academy Watch 8 Goal
DESCRIPTION:
URL:https://allirelandpoloclub.com/event/polo-academy-watch-8-goal/
CATEGORIES:New Dublin Polo Academy
END:VEVENT
BEGIN:VEVENT
DTSTART;VALUE=DATE:20170701
DTEND;VALUE=DATE:20170703
DTSTAMP:20260422T095412
CREATED:20170628T223318Z
LAST-MODIFIED:20170628T224205Z
UID:103-1498867200-1499039999@allirelandpoloclub.com
SUMMARY:Derby Cup 8 goal tournament
DESCRIPTION:
URL:https://allirelandpoloclub.com/event/derby-cup-8-goal-tournament/
CATEGORIES:Tournaments Season 2017
END:VEVENT
BEGIN:VEVENT
DTSTART;VALUE=DATE:20170610
DTEND;VALUE=DATE:20170612
DTSTAMP:20260422T095412
CREATED:20170628T224147Z
LAST-MODIFIED:20170628T224147Z
UID:106-1497052800-1497225599@allirelandpoloclub.com
SUMMARY:Stuarts Cup
DESCRIPTION:
URL:https://allirelandpoloclub.com/event/stuarts-cup/
LOCATION:The All Ireland Polo Club\, Polo Grounds\, Phoenix Park\, Dublin\, Ireland
CATEGORIES:Tournaments Season 2017
END:VEVENT
END:VCALENDAR